BEGIN:VCALENDAR
VERSION:2.0
PRODID:-//Quoi faire à Alma - ECPv6.15.14//NONSGML v1.0//EN
CALSCALE:GREGORIAN
METHOD:PUBLISH
X-WR-CALNAME:Quoi faire à Alma
X-ORIGINAL-URL:https://quoifairealma.com
X-WR-CALDESC:Évènements pour Quoi faire à Alma
REFRESH-INTERVAL;VALUE=DURATION:PT1H
X-Robots-Tag:noindex
X-PUBLISHED-TTL:PT1H
BEGIN:VTIMEZONE
TZID:America/New_York
BEGIN:DAYLIGHT
TZOFFSETFROM:-0500
TZOFFSETTO:-0400
TZNAME:EDT
DTSTART:20240310T070000
END:DAYLIGHT
BEGIN:STANDARD
TZOFFSETFROM:-0400
TZOFFSETTO:-0500
TZNAME:EST
DTSTART:20241103T060000
END:STANDARD
BEGIN:DAYLIGHT
TZOFFSETFROM:-0500
TZOFFSETTO:-0400
TZNAME:EDT
DTSTART:20250309T070000
END:DAYLIGHT
BEGIN:STANDARD
TZOFFSETFROM:-0400
TZOFFSETTO:-0500
TZNAME:EST
DTSTART:20251102T060000
END:STANDARD
BEGIN:DAYLIGHT
TZOFFSETFROM:-0500
TZOFFSETTO:-0400
TZNAME:EDT
DTSTART:20260308T070000
END:DAYLIGHT
BEGIN:STANDARD
TZOFFSETFROM:-0400
TZOFFSETTO:-0500
TZNAME:EST
DTSTART:20261101T060000
END:STANDARD
END:VTIMEZONE
BEGIN:VEVENT
DTSTART;TZID=America/New_York:20250911T180000
DTEND;TZID=America/New_York:20251106T200000
DTSTAMP:20260425T120904
CREATED:20250825T001813Z
LAST-MODIFIED:20250825T122801Z
UID:10000919-1757613600-1762459200@quoifairealma.com
SUMMARY:Multisports enfants 6-12 ans | Dekolac
DESCRIPTION:Le volet Multi-Sports est une nouveauté pensée pour les jeunes qui aiment bouger\, développer leurs habiletés et s’amuser dans un cadre dynamique et sécuritaire. \n🎯 Objectif\nOffrir aux enfants une expérience variée pour développer leurs compétences motrices et leur esprit d’équipe.\nPermettre aux jeunes de découvrir plusieurs disciplines dans une ambiance ludique et structurée. \n🏐⚽🏀🏒 Activités proposées\nLes jeunes participent à des jeux animés et à des ateliers autour de plusieurs sports :\nBallon-chasseur\nSoccer\nBasketball\nHockey-balle (dek)\nTchoukball\nBaseball adapté\nEt d’autres défis moteurs variés \n👧🧒 Public visé\nEnfants de 6 à 12 ans (groupés par âges pour une meilleure dynamique).\n📍 Endroit\nGymnase de l’École Notre-Dame à Alma\n📅 Période\nAutomne 2025\nChaque jeudi soir (horaire adapté aux familles)\n✅ Points forts\nEncadrement professionnel et dynamique \nAtmosphère conviviale\, inclusive et respectueuse\nPermet de toucher à plusieurs sports pour aider l’enfant à trouver ce qui lui plaît le plus \nhttps://dekolac.square.site/
URL:https://quoifairealma.com/evenement/multisports-enfants-6-12-ans-dekolac/
LOCATION:École Notre-Dame\, 1631 Avenue Hamilton\, Alma\, Québec\, G8B 4Z1
CATEGORIES:Activités sportives,Sports et plein air
ATTACH;FMTTYPE=image/jpeg:https://quoifairealma.com/app/uploads/2025/08/DLP.jpg
ORGANIZER;CN="Dekolac":MAILTO:dekolac@hotmail.com
END:VEVENT
BEGIN:VEVENT
DTSTART;TZID=America/New_York:20251026T130000
DTEND;TZID=America/New_York:20251026T150000
DTSTAMP:20260425T120904
CREATED:20251020T185152Z
LAST-MODIFIED:20251021T144631Z
UID:10001093-1761483600-1761490800@quoifairealma.com
SUMMARY:Hockey D1 : St. Lawrence contre les Jeannois du Collège d'Alma
DESCRIPTION:Les Jeannois affronteront les Lions du cégep Champlain St. Lawrence. \nC’est un rendez-vous à ne pas manquer! \nTarif :\nAdulte : 17 et + : 10 $\nAdo (12-16) et étudiants : 5 $\nEnfants (11 ans et moins) : gratuit
URL:https://quoifairealma.com/evenement/hockey-d1-st-lawrence-contre-les-jeannois-du-college-dalma/
LOCATION:Centre Mario-Tremblay\, 605\, boulevard Saint-Luc\, Alma\, G8B 2K8
CATEGORIES:Compétitions et rencontres sportives,Sports et plein air
ATTACH;FMTTYPE=image/jpeg:https://quoifairealma.com/app/uploads/2025/10/edouard-nadeau_photographe-1140.jpg
ORGANIZER;CN="Coll%C3%A8ge d'Alma":MAILTO:melina.regimbal@collegealma.ca
END:VEVENT
END:VCALENDAR