BEGIN:VCALENDAR
VERSION:2.0
PRODID:-//Quoi faire à Alma - ECPv6.15.14//NONSGML v1.0//EN
CALSCALE:GREGORIAN
METHOD:PUBLISH
X-WR-CALNAME:Quoi faire à Alma
X-ORIGINAL-URL:https://quoifairealma.com
X-WR-CALDESC:Évènements pour Quoi faire à Alma
REFRESH-INTERVAL;VALUE=DURATION:PT1H
X-Robots-Tag:noindex
X-PUBLISHED-TTL:PT1H
BEGIN:VTIMEZONE
TZID:America/New_York
BEGIN:DAYLIGHT
TZOFFSETFROM:-0500
TZOFFSETTO:-0400
TZNAME:EDT
DTSTART:20240310T070000
END:DAYLIGHT
BEGIN:STANDARD
TZOFFSETFROM:-0400
TZOFFSETTO:-0500
TZNAME:EST
DTSTART:20241103T060000
END:STANDARD
BEGIN:DAYLIGHT
TZOFFSETFROM:-0500
TZOFFSETTO:-0400
TZNAME:EDT
DTSTART:20250309T070000
END:DAYLIGHT
BEGIN:STANDARD
TZOFFSETFROM:-0400
TZOFFSETTO:-0500
TZNAME:EST
DTSTART:20251102T060000
END:STANDARD
BEGIN:DAYLIGHT
TZOFFSETFROM:-0500
TZOFFSETTO:-0400
TZNAME:EDT
DTSTART:20260308T070000
END:DAYLIGHT
BEGIN:STANDARD
TZOFFSETFROM:-0400
TZOFFSETTO:-0500
TZNAME:EST
DTSTART:20261101T060000
END:STANDARD
END:VTIMEZONE
BEGIN:VEVENT
DTSTART;TZID=America/New_York:20250911T180000
DTEND;TZID=America/New_York:20251106T200000
DTSTAMP:20260425T131750
CREATED:20250825T001813Z
LAST-MODIFIED:20250825T122801Z
UID:10000919-1757613600-1762459200@quoifairealma.com
SUMMARY:Multisports enfants 6-12 ans | Dekolac
DESCRIPTION:Le volet Multi-Sports est une nouveauté pensée pour les jeunes qui aiment bouger\, développer leurs habiletés et s’amuser dans un cadre dynamique et sécuritaire. \n🎯 Objectif\nOffrir aux enfants une expérience variée pour développer leurs compétences motrices et leur esprit d’équipe.\nPermettre aux jeunes de découvrir plusieurs disciplines dans une ambiance ludique et structurée. \n🏐⚽🏀🏒 Activités proposées\nLes jeunes participent à des jeux animés et à des ateliers autour de plusieurs sports :\nBallon-chasseur\nSoccer\nBasketball\nHockey-balle (dek)\nTchoukball\nBaseball adapté\nEt d’autres défis moteurs variés \n👧🧒 Public visé\nEnfants de 6 à 12 ans (groupés par âges pour une meilleure dynamique).\n📍 Endroit\nGymnase de l’École Notre-Dame à Alma\n📅 Période\nAutomne 2025\nChaque jeudi soir (horaire adapté aux familles)\n✅ Points forts\nEncadrement professionnel et dynamique \nAtmosphère conviviale\, inclusive et respectueuse\nPermet de toucher à plusieurs sports pour aider l’enfant à trouver ce qui lui plaît le plus \nhttps://dekolac.square.site/
URL:https://quoifairealma.com/evenement/multisports-enfants-6-12-ans-dekolac/
LOCATION:École Notre-Dame\, 1631 Avenue Hamilton\, Alma\, Québec\, G8B 4Z1
CATEGORIES:Activités sportives,Sports et plein air
ATTACH;FMTTYPE=image/jpeg:https://quoifairealma.com/app/uploads/2025/08/DLP.jpg
ORGANIZER;CN="Dekolac":MAILTO:dekolac@hotmail.com
END:VEVENT
BEGIN:VEVENT
DTSTART;TZID=America/New_York:20251005T130000
DTEND;TZID=America/New_York:20251005T150000
DTSTAMP:20260425T131750
CREATED:20250930T141317Z
LAST-MODIFIED:20251003T173750Z
UID:10001074-1759669200-1759676400@quoifairealma.com
SUMMARY:Soccer collégial masculin : Alma reçoit Rivière-du-Loup
DESCRIPTION:Vos Jeannois seront en action ce dimanche. Pour l’occasion\, ils recevront la visite des Portageurs du cégep de Rivière-du-Loup. \nSoyez nombreux à les encourager! \nWEBDIFFUSION : https://www.youtube.com/live/tWKdQnVCR_I
URL:https://quoifairealma.com/evenement/soccer-collegial-masculin-alma-recoit-riviere-du-loup/
LOCATION:Collège d’Alma\, 675\, boulevard Auger Ouest\, Alma\, G8B 2B7
CATEGORIES:Compétitions et rencontres sportives,Sports et plein air
ATTACH;FMTTYPE=image/jpeg:https://quoifairealma.com/app/uploads/2025/09/edouard-nadeau_photographe-0871.jpg
ORGANIZER;CN="Coll%C3%A8ge d'Alma":MAILTO:melina.regimbal@collegealma.ca
END:VEVENT
BEGIN:VEVENT
DTSTART;TZID=America/New_York:20251005T150000
DTEND;TZID=America/New_York:20251005T170000
DTSTAMP:20260425T131750
CREATED:20250930T141627Z
LAST-MODIFIED:20251003T173842Z
UID:10001075-1759676400-1759683600@quoifairealma.com
SUMMARY:Soccer féminin collégial : Alma reçoit Champlain St. Lawrewnce
DESCRIPTION:L’équipe de soccer féminine du Collège d’Alma sera également en action ce dimanche puisqu’elle recevra leur homologue du cégep Champlain St. Lawrence\, immédiatement après le match de l’équipe masculine. \nVenez encourager nos équipes des Jeannois! \nWEBDIFFUSION : https://www.youtube.com/live/tWKdQnVCR_I
URL:https://quoifairealma.com/evenement/soccer-feminin-collegial-alma-recoit-champlain-st-lawrewnce/
LOCATION:Collège d’Alma\, 675\, boulevard Auger Ouest\, Alma\, G8B 2B7
CATEGORIES:Compétitions et rencontres sportives,Sports et plein air
ATTACH;FMTTYPE=image/jpeg:https://quoifairealma.com/app/uploads/2025/09/edouard-nadeau_photographe-06691.jpg
ORGANIZER;CN="Coll%C3%A8ge d'Alma":MAILTO:melina.regimbal@collegealma.ca
END:VEVENT
END:VCALENDAR