BEGIN:VCALENDAR
VERSION:2.0
PRODID:-//Quoi faire à Alma - ECPv6.15.14//NONSGML v1.0//EN
CALSCALE:GREGORIAN
METHOD:PUBLISH
X-WR-CALNAME:Quoi faire à Alma
X-ORIGINAL-URL:https://quoifairealma.com
X-WR-CALDESC:Évènements pour Quoi faire à Alma
REFRESH-INTERVAL;VALUE=DURATION:PT1H
X-Robots-Tag:noindex
X-PUBLISHED-TTL:PT1H
BEGIN:VTIMEZONE
TZID:America/New_York
BEGIN:DAYLIGHT
TZOFFSETFROM:-0500
TZOFFSETTO:-0400
TZNAME:EDT
DTSTART:20240310T070000
END:DAYLIGHT
BEGIN:STANDARD
TZOFFSETFROM:-0400
TZOFFSETTO:-0500
TZNAME:EST
DTSTART:20241103T060000
END:STANDARD
BEGIN:DAYLIGHT
TZOFFSETFROM:-0500
TZOFFSETTO:-0400
TZNAME:EDT
DTSTART:20250309T070000
END:DAYLIGHT
BEGIN:STANDARD
TZOFFSETFROM:-0400
TZOFFSETTO:-0500
TZNAME:EST
DTSTART:20251102T060000
END:STANDARD
BEGIN:DAYLIGHT
TZOFFSETFROM:-0500
TZOFFSETTO:-0400
TZNAME:EDT
DTSTART:20260308T070000
END:DAYLIGHT
BEGIN:STANDARD
TZOFFSETFROM:-0400
TZOFFSETTO:-0500
TZNAME:EST
DTSTART:20261101T060000
END:STANDARD
END:VTIMEZONE
BEGIN:VEVENT
DTSTART;TZID=America/New_York:20250704T000000
DTEND;TZID=America/New_York:20251005T000000
DTSTAMP:20260425T143555
CREATED:20250704T143708Z
LAST-MODIFIED:20250704T151804Z
UID:10001379-1751587200-1759622400@quoifairealma.com
SUMMARY:Défi-Évasion
DESCRIPTION:En collaboration avec Défi-Évasion\, la Ville d’Alma vous propose de participer à une activité extérieure originale qui vous permettra de bouger\, élucider des énigmes et prendre part à une expérience différente ! \nMuni de votre téléphone cellulaire\, ce jeu-parcours unique en son genre vous transposera dans un scénario dans lequel vous devrez sauver l’avenir de la Ville ! Il n’y a pas de temps limite pour compléter le parcours\, ni de moment précis pour y jouer. En voiture\, à vélo ou à pied\, dirigez-vous à chacun des lieux identifiés afin de découvrir le contenu de l’énigme à résoudre. Vous devrez tous les visiter pour compléter votre mission ! \nExplication du scénario : \nLe Dr Foody\, grand savant fou de la ville\, vient de révolutionner le monde : il a construit une machine incroyable qui fait pleuvoir de la nourriture! Finies\, les longues heures passées à l’épicerie pour trouver les meilleurs aliments\, ils tombent maintenant directement dans votre cour! Malheureusement\, la machine n’était pas tout à fait au point et a perdu quelques pièces… La météo se dérègle\, il y a une tempête alimentaire en vue! Vous devez retrouver ces pièces et réparer la machine avant qu’une catastrophe ne survienne! \nLieu de départ :  À la Dam-en-terre\, à l’entrée de la plage\, face au stationnement \nDémarrer \nViens vite essayer de résoudre les énigmes avec tes amis ou ta famille!
URL:https://quoifairealma.com/evenement/defi-evasion/
LOCATION:Centre de villégiature Dam-en-terre\, Alma\, Québec\, G8B 5W1\, Canada
CATEGORIES:Activités de plein air,Sports et plein air
ATTACH;FMTTYPE=image/png:https://quoifairealma.com/app/uploads/2025/07/FOB-A_VF_Publicite_Base_Pub_1200X628.png
ORGANIZER;CN="Service des Loisirs et de la Culture":MAILTO:receptioncmt@ville.alma.qc.ca
GEO:48.586312;-71.662585
END:VEVENT
BEGIN:VEVENT
DTSTART;TZID=America/New_York:20250911T180000
DTEND;TZID=America/New_York:20251106T200000
DTSTAMP:20260425T143555
CREATED:20250825T001813Z
LAST-MODIFIED:20250825T122801Z
UID:10000919-1757613600-1762459200@quoifairealma.com
SUMMARY:Multisports enfants 6-12 ans | Dekolac
DESCRIPTION:Le volet Multi-Sports est une nouveauté pensée pour les jeunes qui aiment bouger\, développer leurs habiletés et s’amuser dans un cadre dynamique et sécuritaire. \n🎯 Objectif\nOffrir aux enfants une expérience variée pour développer leurs compétences motrices et leur esprit d’équipe.\nPermettre aux jeunes de découvrir plusieurs disciplines dans une ambiance ludique et structurée. \n🏐⚽🏀🏒 Activités proposées\nLes jeunes participent à des jeux animés et à des ateliers autour de plusieurs sports :\nBallon-chasseur\nSoccer\nBasketball\nHockey-balle (dek)\nTchoukball\nBaseball adapté\nEt d’autres défis moteurs variés \n👧🧒 Public visé\nEnfants de 6 à 12 ans (groupés par âges pour une meilleure dynamique).\n📍 Endroit\nGymnase de l’École Notre-Dame à Alma\n📅 Période\nAutomne 2025\nChaque jeudi soir (horaire adapté aux familles)\n✅ Points forts\nEncadrement professionnel et dynamique \nAtmosphère conviviale\, inclusive et respectueuse\nPermet de toucher à plusieurs sports pour aider l’enfant à trouver ce qui lui plaît le plus \nhttps://dekolac.square.site/
URL:https://quoifairealma.com/evenement/multisports-enfants-6-12-ans-dekolac/
LOCATION:École Notre-Dame\, 1631 Avenue Hamilton\, Alma\, Québec\, G8B 4Z1
CATEGORIES:Activités sportives,Sports et plein air
ATTACH;FMTTYPE=image/jpeg:https://quoifairealma.com/app/uploads/2025/08/DLP.jpg
ORGANIZER;CN="Dekolac":MAILTO:dekolac@hotmail.com
END:VEVENT
BEGIN:VEVENT
DTSTART;TZID=America/New_York:20250927T140000
DTEND;TZID=America/New_York:20250927T160000
DTSTAMP:20260425T143555
CREATED:20250922T141740Z
LAST-MODIFIED:20250924T191015Z
UID:10001057-1758981600-1758988800@quoifairealma.com
SUMMARY:Hockey D2 : Rimouski visite les Jeannois du Collège d'Alma
DESCRIPTION:Ce samedi\, l’équipe D2 des Jeannois du Collège d’Alma se mesureront aux Pionniers du cégep de Rimouski pour le premier duel de ce programme double. \nSoyez aux premières loges de ce match enlevant! \nWEBDIFFUSION : https://www.youtube.com/live/xD2F5SPLdEc
URL:https://quoifairealma.com/evenement/hockey-d2-rimouski-visite-les-jeannois-du-college-dalma/
LOCATION:Centre Mario-Tremblay\, 605\, boulevard Saint-Luc\, Alma\, G8B 2K8
CATEGORIES:Compétitions et rencontres sportives,Sports et plein air
ATTACH;FMTTYPE=image/jpeg:https://quoifairealma.com/app/uploads/2025/09/edouard-nadeau_photographe-3381.jpg
ORGANIZER;CN="Coll%C3%A8ge d'Alma":MAILTO:melina.regimbal@collegealma.ca
END:VEVENT
END:VCALENDAR