BEGIN:VCALENDAR
VERSION:2.0
PRODID:-//Quoi faire à Alma - ECPv6.15.14//NONSGML v1.0//EN
CALSCALE:GREGORIAN
METHOD:PUBLISH
X-ORIGINAL-URL:https://quoifairealma.com
X-WR-CALDESC:Évènements pour Quoi faire à Alma
REFRESH-INTERVAL;VALUE=DURATION:PT1H
X-Robots-Tag:noindex
X-PUBLISHED-TTL:PT1H
BEGIN:VTIMEZONE
TZID:America/New_York
BEGIN:DAYLIGHT
TZOFFSETFROM:-0500
TZOFFSETTO:-0400
TZNAME:EDT
DTSTART:20240310T070000
END:DAYLIGHT
BEGIN:STANDARD
TZOFFSETFROM:-0400
TZOFFSETTO:-0500
TZNAME:EST
DTSTART:20241103T060000
END:STANDARD
BEGIN:DAYLIGHT
TZOFFSETFROM:-0500
TZOFFSETTO:-0400
TZNAME:EDT
DTSTART:20250309T070000
END:DAYLIGHT
BEGIN:STANDARD
TZOFFSETFROM:-0400
TZOFFSETTO:-0500
TZNAME:EST
DTSTART:20251102T060000
END:STANDARD
BEGIN:DAYLIGHT
TZOFFSETFROM:-0500
TZOFFSETTO:-0400
TZNAME:EDT
DTSTART:20260308T070000
END:DAYLIGHT
BEGIN:STANDARD
TZOFFSETFROM:-0400
TZOFFSETTO:-0500
TZNAME:EST
DTSTART:20261101T060000
END:STANDARD
END:VTIMEZONE
BEGIN:VEVENT
DTSTART;TZID=America/New_York:20250911T180000
DTEND;TZID=America/New_York:20251106T200000
DTSTAMP:20260425T104554
CREATED:20250825T001813Z
LAST-MODIFIED:20250825T122801Z
UID:10000919-1757613600-1762459200@quoifairealma.com
SUMMARY:Multisports enfants 6-12 ans | Dekolac
DESCRIPTION:Le volet Multi-Sports est une nouveauté pensée pour les jeunes qui aiment bouger\, développer leurs habiletés et s’amuser dans un cadre dynamique et sécuritaire. \n🎯 Objectif\nOffrir aux enfants une expérience variée pour développer leurs compétences motrices et leur esprit d’équipe.\nPermettre aux jeunes de découvrir plusieurs disciplines dans une ambiance ludique et structurée. \n🏐⚽🏀🏒 Activités proposées\nLes jeunes participent à des jeux animés et à des ateliers autour de plusieurs sports :\nBallon-chasseur\nSoccer\nBasketball\nHockey-balle (dek)\nTchoukball\nBaseball adapté\nEt d’autres défis moteurs variés \n👧🧒 Public visé\nEnfants de 6 à 12 ans (groupés par âges pour une meilleure dynamique).\n📍 Endroit\nGymnase de l’École Notre-Dame à Alma\n📅 Période\nAutomne 2025\nChaque jeudi soir (horaire adapté aux familles)\n✅ Points forts\nEncadrement professionnel et dynamique \nAtmosphère conviviale\, inclusive et respectueuse\nPermet de toucher à plusieurs sports pour aider l’enfant à trouver ce qui lui plaît le plus \nhttps://dekolac.square.site/
URL:https://quoifairealma.com/evenement/multisports-enfants-6-12-ans-dekolac/
LOCATION:École Notre-Dame\, 1631 Avenue Hamilton\, Alma\, Québec\, G8B 4Z1
CATEGORIES:Activités sportives,Sports et plein air
ATTACH;FMTTYPE=image/jpeg:https://quoifairealma.com/app/uploads/2025/08/DLP.jpg
ORGANIZER;CN="Dekolac":MAILTO:dekolac@hotmail.com
END:VEVENT
BEGIN:VEVENT
DTSTART;TZID=America/New_York:20251101T130000
DTEND;TZID=America/New_York:20251101T150000
DTSTAMP:20260425T104554
CREATED:20251024T192253Z
LAST-MODIFIED:20251029T135401Z
UID:10001098-1762002000-1762009200@quoifairealma.com
SUMMARY:Basketball D2 : Limoilou visite les jeannois du Collège d'Alma
DESCRIPTION:On vous attends en grand nombre! \nTarif :\nAdulte : 17 et + : 5 $\nAdo (12-16) et étudiants : 2 $\nEnfants (11 ans et moins) : gratuit
URL:https://quoifairealma.com/evenement/basketball-d2-limoilou-visite-les-jeannois-du-college-dalma/
LOCATION:Collège d’Alma\, 675\, boulevard Auger Ouest\, Alma\, G8B 2B7
CATEGORIES:Compétitions et rencontres sportives,Sports et plein air
ATTACH;FMTTYPE=image/jpeg:https://quoifairealma.com/app/uploads/2025/10/edouard-nadeau_photographe-6342.jpg
ORGANIZER;CN="Coll%C3%A8ge d'Alma":MAILTO:melina.regimbal@collegealma.ca
END:VEVENT
BEGIN:VEVENT
DTSTART;TZID=America/New_York:20251101T150000
DTEND;TZID=America/New_York:20251101T170000
DTSTAMP:20260425T104554
CREATED:20251024T191922Z
LAST-MODIFIED:20251029T135237Z
UID:10001097-1762009200-1762016400@quoifairealma.com
SUMMARY:Basketball D3 : Baie-Comeau visite les Jeannois
DESCRIPTION:Assistez en grand nombre en direct ou grâce à la webdiffusion au match opposant les Jeannois du Collège d’Alma aux Trappeurs de Baie-Comeau. \nWEBDIFFUSION : https://www.youtube.com/live/wFg2pNH9S2c \nTarif :\nAdulte : 17 et + : 5 $\nAdo (12-16) et étudiants : 2 $\nEnfants (11 ans et moins) : gratuit
URL:https://quoifairealma.com/evenement/basketball-d3-baie-comeau-visite-les-jeannois/
LOCATION:Collège d’Alma\, 675\, boulevard Auger Ouest\, Alma\, G8B 2B7
CATEGORIES:Compétitions et rencontres sportives,Sports et plein air
ATTACH;FMTTYPE=image/jpeg:https://quoifairealma.com/app/uploads/2025/10/DSC_7593-2.jpg
ORGANIZER;CN="Coll%C3%A8ge d'Alma":MAILTO:melina.regimbal@collegealma.ca
END:VEVENT
BEGIN:VEVENT
DTSTART;TZID=America/New_York:20251105T200000
DTEND;TZID=America/New_York:20251105T220000
DTSTAMP:20260425T104554
CREATED:20251031T185719Z
LAST-MODIFIED:20251031T190716Z
UID:10001102-1762372800-1762380000@quoifairealma.com
SUMMARY:Basketball D3 : Jonquière contre Alma
DESCRIPTION:L’équipe de basketball D3 sera en action ce mercredi. En effet\, vos Jeannois reçoivent les Gaillards du cégep de Jonquière. \nBienvenue à toutes et à tous! \nWEBDIFFUSION : https://www.youtube.com/live/5iYc41Zl6ek \nTarif :\nAdulte : 17 et + : 5 $\nAdo (12-16) et étudiants : 2 $\nEnfants (11 ans et moins) : gratuit
URL:https://quoifairealma.com/evenement/basketball-d3-jonquiere-contre-alma/
LOCATION:Collège d’Alma\, 675\, boulevard Auger Ouest\, Alma\, G8B 2B7
CATEGORIES:Compétitions et rencontres sportives,Sports et plein air
ATTACH;FMTTYPE=image/jpeg:https://quoifairealma.com/app/uploads/2025/10/edouard-nadeau_photographe-0297-11.jpg
ORGANIZER;CN="Coll%C3%A8ge d'Alma":MAILTO:melina.regimbal@collegealma.ca
END:VEVENT
BEGIN:VEVENT
DTSTART;TZID=America/New_York:20251108T140000
DTEND;TZID=America/New_York:20251108T160000
DTSTAMP:20260425T104554
CREATED:20251031T192708Z
LAST-MODIFIED:20251106T133040Z
UID:10001104-1762610400-1762617600@quoifairealma.com
SUMMARY:Basketball D2 : Champlain - St. Lawrence visite les Jeannois du Collège d'Alma
DESCRIPTION:On vous attends en grand nombre! \nWEBDIFFUSION : https://www.youtube.com/live/QQMssQkzgKI \nTarif : \nAdulte : 17 et + : 5 $\nAdo (12-16) et étudiants : 2 $\nEnfants (11 ans et moins) : gratuit
URL:https://quoifairealma.com/evenement/basketball-d2-champlain-st-lawrence-visite-les-jeannois-du-college-dalma/
LOCATION:Collège d’Alma\, 675\, boulevard Auger Ouest\, Alma\, G8B 2B7
CATEGORIES:Compétitions et rencontres sportives,Sports et plein air
ATTACH;FMTTYPE=image/jpeg:https://quoifairealma.com/app/uploads/2025/10/edouard-nadeau_photographe-0190.jpg
ORGANIZER;CN="Coll%C3%A8ge d'Alma":MAILTO:melina.regimbal@collegealma.ca
END:VEVENT
BEGIN:VEVENT
DTSTART;TZID=America/New_York:20251108T140000
DTEND;TZID=America/New_York:20251108T160000
DTSTAMP:20260425T104554
CREATED:20251103T154244Z
LAST-MODIFIED:20251106T133809Z
UID:10001108-1762610400-1762617600@quoifairealma.com
SUMMARY:Hockey D1 : Cégep André-Laurendeau visite les Jeannois du Collège d'Alma
DESCRIPTION:Venez en grand nombre les encourager encourager vos Jeannois ce samedi. Pour l’occasion\, le Boomerang du cégep André-Laurendeau seront les visiteurs. \nWEBDIFFUSION : https://www.youtube.com/live/QQMssQkzgKI \nTarif : \nAdulte : 17 et + : 10 $\nAdo (12-16) et étudiants : 5 $\nEnfants (11 ans et moins) : gratuit
URL:https://quoifairealma.com/evenement/hockey-d1-cegep-andre-laurendeau-visite-les-jeannois-du-college-dalma/
LOCATION:Centre Mario-Tremblay\, 605\, boulevard Saint-Luc\, Alma\, G8B 2K8
CATEGORIES:Compétitions et rencontres sportives,Sports et plein air
ATTACH;FMTTYPE=image/jpeg:https://quoifairealma.com/app/uploads/2025/11/edouard-nadeau_photographe-0163-1.jpg
ORGANIZER;CN="Coll%C3%A8ge d'Alma":MAILTO:melina.regimbal@collegealma.ca
END:VEVENT
BEGIN:VEVENT
DTSTART;TZID=America/New_York:20251109T130000
DTEND;TZID=America/New_York:20251109T150000
DTSTAMP:20260425T104554
CREATED:20251103T162407Z
LAST-MODIFIED:20251106T133708Z
UID:10001109-1762693200-1762700400@quoifairealma.com
SUMMARY:Hockey D1 : Saint-Laurent visite les Jeannois du Collège d'Alma
DESCRIPTION:Les Jeannois du Collège d’Alma affronteront les Patriotes du cégep de Saint-Laurent. \nVenez faire du bruit! \nWEBDIFFUSION : https://www.youtube.com/live/87HnxEWQIJw \nTarif : \nAdulte : 17 et + : 10 $\nAdo (12-16) et étudiants : 5 $\nEnfants (11 ans et moins) : gratuit
URL:https://quoifairealma.com/evenement/hockey-d1-saint-laurent-visite-les-jeannois-du-college-dalma/
LOCATION:Centre Mario-Tremblay\, 605\, boulevard Saint-Luc\, Alma\, G8B 2K8
CATEGORIES:Compétitions et rencontres sportives,Sports et plein air
ATTACH;FMTTYPE=image/jpeg:https://quoifairealma.com/app/uploads/2025/11/edouard-nadeau_photographe-0163.jpg
ORGANIZER;CN="Coll%C3%A8ge d'Alma":MAILTO:melina.regimbal@collegealma.ca
END:VEVENT
BEGIN:VEVENT
DTSTART;TZID=America/New_York:20251115T130000
DTEND;TZID=America/New_York:20251115T160000
DTSTAMP:20260425T104554
CREATED:20251028T153703Z
LAST-MODIFIED:20251106T131746Z
UID:10001100-1763211600-1763222400@quoifairealma.com
SUMMARY:Découvre le curling!
DESCRIPTION:Tu cherches une activité originale pour briser la glace (littéralement 😄) et rencontrer de nouvelles personnes? Viens t’initier au curling\, un sport tout à fait inusité mais fortement populaire qui allie stratégie\, travail d’équipe et plaisir! \nCette activité est ouverte à tous et toutes\, que tu sois nouvellement arrivé·e au Québec ou membre de la communauté locale. \n🤝 Une belle occasion de rencontres interculturelles\, de belles découvertes et de fous rires garantis sur la glace!\nActivité idéale pour toute la famille (attention l’âge minimum pour aller sur les glaces est de 8 ans)! \nDes jeux seront disponibles sur place pour les enfants. \nAucun matériel (ni aptitude!) requis. Enfile des vêtements chauds et apporte ta bonne humeur!\nAu plaisir de t’y voir
URL:https://quoifairealma.com/evenement/ecouvre-le-curling/
LOCATION:Club de Curling Riverbend d’Alma\, 1030 Rue de la Gare Ouest\, Alma\, Québec\, G8B 4L8\, Canada
CATEGORIES:Activités sportives,Sports et plein air
ATTACH;FMTTYPE=image/jpeg:https://quoifairealma.com/app/uploads/2025/11/curling2-.jpg
END:VEVENT
BEGIN:VEVENT
DTSTART;TZID=America/New_York:20251116T130000
DTEND;TZID=America/New_York:20251116T150000
DTSTAMP:20260425T104554
CREATED:20251107T202725Z
LAST-MODIFIED:20251112T132438Z
UID:10001113-1763298000-1763305200@quoifairealma.com
SUMMARY:Hockey D2 : les Jeannois reçoivent les Voltigeurs
DESCRIPTION:Assistez en grand nombre à ce match opposant vos Jeannois aux Voltigeurs de Victoriaville. \nDe l’action assurément! \nWEBDIFFUSION : https://www.youtube.com/live/S9HHAp_PPuY \nTarif :\nAdulte : 17 et + : 10 $\nAdo (12-16) et étudiants : 5 $\nEnfants (11 ans et moins) : gratuit
URL:https://quoifairealma.com/evenement/hockey-d2-les-jeannois-recoivent-les-voltigeurs/
LOCATION:Centre Mario-Tremblay\, 605\, boulevard Saint-Luc\, Alma\, G8B 2K8
CATEGORIES:Compétitions et rencontres sportives,Sports et plein air
ATTACH;FMTTYPE=image/jpeg:https://quoifairealma.com/app/uploads/2025/11/edouard-nadeau_photographe-1272.jpg
ORGANIZER;CN="Coll%C3%A8ge d'Alma":MAILTO:melina.regimbal@collegealma.ca
END:VEVENT
BEGIN:VEVENT
DTSTART;TZID=America/New_York:20251122T130000
DTEND;TZID=America/New_York:20251122T150000
DTSTAMP:20260425T104554
CREATED:20251113T163430Z
LAST-MODIFIED:20251114T205445Z
UID:10000978-1763816400-1763823600@quoifairealma.com
SUMMARY:Basketball collégial D2 : Sainte-Foy contre Alma
DESCRIPTION:Les Jeannois du Collège d’Alma reçoivent les les Dynamiques du Cégep de Sainte-Foy. \nOn vous attend en grand nombre! \nTarif : \nAdulte : 17 et + : 5 $\nAdo (12-16) et étudiants : 2 $\nEnfants (11 ans et moins) : gratuit
URL:https://quoifairealma.com/evenement/basketball-collegial-d2-sainte-foy-contre-alma/
LOCATION:Collège d’Alma\, 675\, boulevard Auger Ouest\, Alma\, G8B 2B7
CATEGORIES:Compétitions et rencontres sportives,Sports et plein air
ATTACH;FMTTYPE=image/jpeg:https://quoifairealma.com/app/uploads/2025/11/edouard-nadeau_photographe-7436.jpg
ORGANIZER;CN="Coll%C3%A8ge d'Alma":MAILTO:melina.regimbal@collegealma.ca
END:VEVENT
BEGIN:VEVENT
DTSTART;TZID=America/New_York:20251122T140000
DTEND;TZID=America/New_York:20251122T160000
DTSTAMP:20260425T104554
CREATED:20251113T184833Z
LAST-MODIFIED:20251114T205807Z
UID:10000984-1763820000-1763827200@quoifairealma.com
SUMMARY:Hockey D1 : Laflèche visite les Jeannois su Collège d'Alma
DESCRIPTION:Ce samedi\, les Jeannois d’Alma reçoivent les Dragons du Collège Laflèche. \nVenez en grand nombre les encourager! \nWEBDIFFUSION : https://www.youtube.com/live/RmRvS6yd3qI \nTarif : \nAdulte : 17 et + : 10 $\nAdo (12-16) et étudiants : 5 $\nEnfants (11 ans et moins) : gratuit
URL:https://quoifairealma.com/evenement/hockey-d1-lafleche-visite-les-jeannois-su-college-dalma/
LOCATION:Centre Mario-Tremblay\, 605\, boulevard Saint-Luc\, Alma\, G8B 2K8
CATEGORIES:Compétitions et rencontres sportives,Sports et plein air
ATTACH;FMTTYPE=image/jpeg:https://quoifairealma.com/app/uploads/2025/11/edouard-nadeau_photographe-0640.jpg
ORGANIZER;CN="Coll%C3%A8ge d'Alma":MAILTO:melina.regimbal@collegealma.ca
END:VEVENT
BEGIN:VEVENT
DTSTART;TZID=America/New_York:20251123T130000
DTEND;TZID=America/New_York:20251123T150000
DTSTAMP:20260425T104554
CREATED:20251113T185239Z
LAST-MODIFIED:20251114T205925Z
UID:10000986-1763902800-1763910000@quoifairealma.com
SUMMARY:Hockey D1 : Thetford visite Alma
DESCRIPTION:C’est un rendez-vous\, ce dimanche\, alors que les Filons du cégep de Thetford se mesureront aux Jeannois du Collège d’Alma. \nUn match à ne pas manquer! \nWEBDIFFUSION : https://www.youtube.com/live/WySxuL8v9Lk \nTarif :\nAdulte : 17 et + : 10 $\nAdo (12-16) et étudiants : 5 $\nEnfants (11 ans et moins) : gratuit
URL:https://quoifairealma.com/evenement/hockey-d1-thetford-visite-alma/
LOCATION:Centre Mario-Tremblay\, 605\, boulevard Saint-Luc\, Alma\, G8B 2K8
CATEGORIES:Compétitions et rencontres sportives,Sports et plein air
ATTACH;FMTTYPE=image/jpeg:https://quoifairealma.com/app/uploads/2025/11/edouard-nadeau_photographe-1967.jpg
ORGANIZER;CN="Coll%C3%A8ge d'Alma":MAILTO:melina.regimbal@collegealma.ca
END:VEVENT
BEGIN:VEVENT
DTSTART;TZID=America/New_York:20251126T203000
DTEND;TZID=America/New_York:20251126T223000
DTSTAMP:20260425T104554
CREATED:20251118T184507Z
LAST-MODIFIED:20251120T155144Z
UID:10000981-1764189000-1764196200@quoifairealma.com
SUMMARY:Basketball D3 : Saint-Félicien contre Alma
DESCRIPTION:Ce mercredi\, assistez en grand nombre à la partie opposant le Kioki du cégep de Saint-Félicien aux Jeannois du Collège d’Alma. \nPlaisir garanti! \nWEBDIFFUSION : https://www.youtube.com/live/jJh1EHebEDM \nTarif : \nAdulte : 17 et + : 5 $\nAdo (12-16) et étudiants : 2 $\nEnfants (11 ans et moins) : gratuit
URL:https://quoifairealma.com/evenement/basketball-d3-saint-felicien-contre-alma-2/
LOCATION:Collège d’Alma\, 675\, boulevard Auger Ouest\, Alma\, G8B 2B7
CATEGORIES:Compétitions et rencontres sportives,Sports et plein air
ATTACH;FMTTYPE=image/jpeg:https://quoifairealma.com/app/uploads/2025/11/DSC_7593-2.jpg
ORGANIZER;CN="Coll%C3%A8ge d'Alma":MAILTO:melina.regimbal@collegealma.ca
END:VEVENT
BEGIN:VEVENT
DTSTART;TZID=America/New_York:20251129T093000
DTEND;TZID=America/New_York:20251129T170000
DTSTAMP:20260425T104554
CREATED:20251120T153758Z
LAST-MODIFIED:20251120T155331Z
UID:10000985-1764408600-1764435600@quoifairealma.com
SUMMARY:Tournoi de volleyball\, féminin D3
DESCRIPTION:Le Collège d’Alma sera l’hôte d’un tournoi de volleyball féminin D3. Venez en grand nombre encourager nos Jeannois! \nHoraire des matchs : \n9 h 30 : Alma contre Chibougamau (terrain 2)\n10 h 45 : Baie-Comeau contre Alma (terrain 2)\n13 h 15 : Alma contre Saint-Félicien (terrain 1)\n14 h 30 : Chibougamau contre Alma (terrain 2) \nWEBDIFFUSION – Terrain 1 : https://www.youtube.com/live/Nux03Z7J9Mk \nWEBDIFFUSION – Terrain 2 : https://www.youtube.com/live/r8n-Rg5mbRs
URL:https://quoifairealma.com/evenement/tournoi-de-volleyball-feminin-d3/
LOCATION:Collège d’Alma\, 675\, boulevard Auger Ouest\, Alma\, G8B 2B7
CATEGORIES:Compétitions et rencontres sportives,Sports et plein air
ATTACH;FMTTYPE=image/jpeg:https://quoifairealma.com/app/uploads/2025/11/edouard-nadeau_photographe-9414.jpg
ORGANIZER;CN="Coll%C3%A8ge d'Alma":MAILTO:melina.regimbal@collegealma.ca
END:VEVENT
END:VCALENDAR