BEGIN:VCALENDAR
VERSION:2.0
PRODID:-//Quoi faire à Alma - ECPv6.15.14//NONSGML v1.0//EN
CALSCALE:GREGORIAN
METHOD:PUBLISH
X-ORIGINAL-URL:https://quoifairealma.com
X-WR-CALDESC:Évènements pour Quoi faire à Alma
REFRESH-INTERVAL;VALUE=DURATION:PT1H
X-Robots-Tag:noindex
X-PUBLISHED-TTL:PT1H
BEGIN:VTIMEZONE
TZID:America/New_York
BEGIN:DAYLIGHT
TZOFFSETFROM:-0500
TZOFFSETTO:-0400
TZNAME:EDT
DTSTART:20240310T070000
END:DAYLIGHT
BEGIN:STANDARD
TZOFFSETFROM:-0400
TZOFFSETTO:-0500
TZNAME:EST
DTSTART:20241103T060000
END:STANDARD
BEGIN:DAYLIGHT
TZOFFSETFROM:-0500
TZOFFSETTO:-0400
TZNAME:EDT
DTSTART:20250309T070000
END:DAYLIGHT
BEGIN:STANDARD
TZOFFSETFROM:-0400
TZOFFSETTO:-0500
TZNAME:EST
DTSTART:20251102T060000
END:STANDARD
BEGIN:DAYLIGHT
TZOFFSETFROM:-0500
TZOFFSETTO:-0400
TZNAME:EDT
DTSTART:20260308T070000
END:DAYLIGHT
BEGIN:STANDARD
TZOFFSETFROM:-0400
TZOFFSETTO:-0500
TZNAME:EST
DTSTART:20261101T060000
END:STANDARD
END:VTIMEZONE
BEGIN:VEVENT
DTSTART;TZID=America/New_York:20250609T121000
DTEND;TZID=America/New_York:20250906T124000
DTSTAMP:20260425T130751
CREATED:20250702T132945Z
LAST-MODIFIED:20250702T132945Z
UID:10001607-1749471000-1757162400@quoifairealma.com
SUMMARY:Entraînement midi pour tous- Cardio Plein air
DESCRIPTION:🔥 Entraînement sur l’heure du dîner – Pour tous les niveaux ! 💪🍽️ \n📅 Tous les mardis & jeudis🕛 De 12h10 à 12h40 \n\n\n🏃 Tabata \n\n\n⏱️ Intervalles \n\n\n🔁 Circuits… et plus encore ! \n\n\n🧘‍♂️ Apportez votre tapis de sol si vous en avez un ! \n📍 Point de rencontre :🚗 Stationnement du 770 rue Gauthier \nPoint de rencontre : Stationnement du 770 rue gauthier
URL:https://quoifairealma.com/evenement/entrainement-midi-pour-tous-cardio-plein-air/
LOCATION:Plaines vertes\, "Entre le Centre Mario-Tremblay et rue Gauthier. À proximité de Place Festivalma"\, Alma
CATEGORIES:Activités sportives,Sports et plein air
ATTACH;FMTTYPE=image/jpeg:https://quoifairealma.com/app/uploads/2025/07/cardio-plein-air-3.jpg
END:VEVENT
BEGIN:VEVENT
DTSTART;TZID=America/New_York:20250609T180000
DTEND;TZID=America/New_York:20250906T190000
DTSTAMP:20260425T130751
CREATED:20250630T193424Z
LAST-MODIFIED:20250702T132942Z
UID:10000907-1749492000-1757185200@quoifairealma.com
SUMMARY:Entraînement pour tous- Cardio Plein air
DESCRIPTION:Entraînement extérieur pour tous les niveaux durant la saison estival ! \n📅 Tous les lundis & mercredis🕛 De 18 h à 19 h \n📅 Tous les lundis & jeudis🕛 8 h 45 \nIntervalle de marche et de mouvements fonctionnelles \, suivi d’Exercices pour les hauts du corps et pour les abdominaux . \n🧘‍♂️ Apportez votre tapis de sol si vous en avez un ! \n📍 Point de rencontre :\n🚗Stationnement en arrière du centre Mario Tremblay ( à coté des terrains de tennis \, entrée par la avenue begin )
URL:https://quoifairealma.com/evenement/entrainement-pour-tous-cardio-plein-air/
LOCATION:Centre Mario-Tremblay\, 605\, boulevard Saint-Luc\, Alma\, G8B 2K8
CATEGORIES:Activités sportives,Sports et plein air
ATTACH;FMTTYPE=image/jpeg:https://quoifairealma.com/app/uploads/2025/07/cardio-plein-air-3.jpg
END:VEVENT
BEGIN:VEVENT
DTSTART;TZID=America/New_York:20250704T000000
DTEND;TZID=America/New_York:20251005T000000
DTSTAMP:20260425T130751
CREATED:20250704T143708Z
LAST-MODIFIED:20250704T151804Z
UID:10001379-1751587200-1759622400@quoifairealma.com
SUMMARY:Défi-Évasion
DESCRIPTION:En collaboration avec Défi-Évasion\, la Ville d’Alma vous propose de participer à une activité extérieure originale qui vous permettra de bouger\, élucider des énigmes et prendre part à une expérience différente ! \nMuni de votre téléphone cellulaire\, ce jeu-parcours unique en son genre vous transposera dans un scénario dans lequel vous devrez sauver l’avenir de la Ville ! Il n’y a pas de temps limite pour compléter le parcours\, ni de moment précis pour y jouer. En voiture\, à vélo ou à pied\, dirigez-vous à chacun des lieux identifiés afin de découvrir le contenu de l’énigme à résoudre. Vous devrez tous les visiter pour compléter votre mission ! \nExplication du scénario : \nLe Dr Foody\, grand savant fou de la ville\, vient de révolutionner le monde : il a construit une machine incroyable qui fait pleuvoir de la nourriture! Finies\, les longues heures passées à l’épicerie pour trouver les meilleurs aliments\, ils tombent maintenant directement dans votre cour! Malheureusement\, la machine n’était pas tout à fait au point et a perdu quelques pièces… La météo se dérègle\, il y a une tempête alimentaire en vue! Vous devez retrouver ces pièces et réparer la machine avant qu’une catastrophe ne survienne! \nLieu de départ :  À la Dam-en-terre\, à l’entrée de la plage\, face au stationnement \nDémarrer \nViens vite essayer de résoudre les énigmes avec tes amis ou ta famille!
URL:https://quoifairealma.com/evenement/defi-evasion/
LOCATION:Centre de villégiature Dam-en-terre\, Alma\, Québec\, G8B 5W1\, Canada
CATEGORIES:Activités de plein air,Sports et plein air
ATTACH;FMTTYPE=image/png:https://quoifairealma.com/app/uploads/2025/07/FOB-A_VF_Publicite_Base_Pub_1200X628.png
ORGANIZER;CN="Service des Loisirs et de la Culture":MAILTO:receptioncmt@ville.alma.qc.ca
GEO:48.586312;-71.662585
END:VEVENT
BEGIN:VEVENT
DTSTART;TZID=America/New_York:20250906T180000
DTEND;TZID=America/New_York:20250906T230000
DTSTAMP:20260425T130751
CREATED:20250825T001659Z
LAST-MODIFIED:20250826T121642Z
UID:10000913-1757181600-1757199600@quoifairealma.com
SUMMARY:Les 4 Chevaliers | baseball mineur Alma
DESCRIPTION:⚾️ Événement spécial de baseball avec les 4 Chevaliers ⚾️ \n📍 Stade de baseball CMT 1📅 6 Septembre de 18 h à 23 h \nVenez vivre une soirée sportive haute en émotions avec les célèbres joueurs des 4 Chevaliers! 🙌 \n🎟️ Tarifs :👧👦 Gratuit pour les jeunes de 8 ans et moins💵 15 $ par personne
URL:https://quoifairealma.com/evenement/les-4-chevalier-baseball-mineur-alma/
LOCATION:Centre Mario-Tremblay\, 605\, boulevard Saint-Luc\, Alma\, G8B 2K8
CATEGORIES:Activités sportives,Sports et plein air
ATTACH;FMTTYPE=image/jpeg:https://quoifairealma.com/app/uploads/2025/08/baseball.jpg
ORGANIZER;CN="Blub de baseball mineur Alma":MAILTO:baseballmineuralma@hotmail.com
END:VEVENT
BEGIN:VEVENT
DTSTART;TZID=America/New_York:20250911T180000
DTEND;TZID=America/New_York:20251106T200000
DTSTAMP:20260425T130751
CREATED:20250825T001813Z
LAST-MODIFIED:20250825T122801Z
UID:10000919-1757613600-1762459200@quoifairealma.com
SUMMARY:Multisports enfants 6-12 ans | Dekolac
DESCRIPTION:Le volet Multi-Sports est une nouveauté pensée pour les jeunes qui aiment bouger\, développer leurs habiletés et s’amuser dans un cadre dynamique et sécuritaire. \n🎯 Objectif\nOffrir aux enfants une expérience variée pour développer leurs compétences motrices et leur esprit d’équipe.\nPermettre aux jeunes de découvrir plusieurs disciplines dans une ambiance ludique et structurée. \n🏐⚽🏀🏒 Activités proposées\nLes jeunes participent à des jeux animés et à des ateliers autour de plusieurs sports :\nBallon-chasseur\nSoccer\nBasketball\nHockey-balle (dek)\nTchoukball\nBaseball adapté\nEt d’autres défis moteurs variés \n👧🧒 Public visé\nEnfants de 6 à 12 ans (groupés par âges pour une meilleure dynamique).\n📍 Endroit\nGymnase de l’École Notre-Dame à Alma\n📅 Période\nAutomne 2025\nChaque jeudi soir (horaire adapté aux familles)\n✅ Points forts\nEncadrement professionnel et dynamique \nAtmosphère conviviale\, inclusive et respectueuse\nPermet de toucher à plusieurs sports pour aider l’enfant à trouver ce qui lui plaît le plus \nhttps://dekolac.square.site/
URL:https://quoifairealma.com/evenement/multisports-enfants-6-12-ans-dekolac/
LOCATION:École Notre-Dame\, 1631 Avenue Hamilton\, Alma\, Québec\, G8B 4Z1
CATEGORIES:Activités sportives,Sports et plein air
ATTACH;FMTTYPE=image/jpeg:https://quoifairealma.com/app/uploads/2025/08/DLP.jpg
ORGANIZER;CN="Dekolac":MAILTO:dekolac@hotmail.com
END:VEVENT
BEGIN:VEVENT
DTSTART;TZID=America/New_York:20250912T080000
DTEND;TZID=America/New_York:20250912T160000
DTSTAMP:20260425T130751
CREATED:20250805T140027Z
LAST-MODIFIED:20250807T125326Z
UID:10001027-1757664000-1757692800@quoifairealma.com
SUMMARY:Camp d'escalade
DESCRIPTION:Journée pédagogique d’escalade\nVendredi 12 septembre (journée pédagogique)\nPour les jeunes de 10 ans et plus\nCentre Mario Tremblay \nVivez une journée d’escalade éducative\, stimulante et pleine de défis ! Que vous soyez débutant ou grimpeur aguerri\, cette activité est conçue pour vous faire progresser tout en vous amusant. \n\nProgramme de la journée\n8h00 – Accueil des participants\n8h30 à 12h00 – Ateliers d’initiation et de perfectionnement aux techniques d’escalade\, incluant des modules sur la sécurité et l’utilisation de l’équipement\n12h00 à 12h30 – Dîner convivial en groupe (apportez votre lunch)\n12h30 à 15h40 – Activités collaboratives et défis en équipe\n16h00 – Clôture de la journée\n\nPourquoi participer ?\nAméliorez vos compétences techniques en escalade\nRenforcez votre confiance et votre autonomie\nDéveloppez l’esprit d’équipe dans un cadre stimulant\nVivez une expérience enrichissante et mémorable \nCoût $40.00 pour la journée \nInscription\nPour réserver votre place\, contactez : Dominic Parent 📞 418-490-1941 \n📧 DominicParentCESA@gmail.com
URL:https://quoifairealma.com/evenement/camp-descalade/
LOCATION:Centre Mario-Tremblay\, 605\, boulevard Saint-Luc\, Alma\, G8B 2K8
CATEGORIES:Activités sportives,Sports et plein air
ATTACH;FMTTYPE=image/jpeg:https://quoifairealma.com/app/uploads/2025/08/Logo-CESA-Quoi-Faire-Alma_2-1.jpg
END:VEVENT
BEGIN:VEVENT
DTSTART;TZID=America/New_York:20250912T180000
DTEND;TZID=America/New_York:20250912T230000
DTSTAMP:20260425T130751
CREATED:20250905T191313Z
LAST-MODIFIED:20250910T115722Z
UID:10001030-1757700000-1757718000@quoifairealma.com
SUMMARY:Soccer féminin et masculin : Jonquière contre Alma
DESCRIPTION:Pour lancer la saison de soccer\, les équipes féminine et masculine du Collège d’Alma affronteront leurs rivaux du cégep de Jonquière. À 19 h\, les filles prendront d’assaut le terrain synthétique et à 21 h\, ce sera au tour des garçons. Un TAILGATE précèdera les 2 matchs à compter de 18 h. \n\n Endroit: terrain synthétique du collège\n Entrée gratuite \n\n\n\n Tailgate dès 18h00 pour bien lancer la soirée ! Ambiance garantie avec :\n– Bières\n– Hot-dogs\n– Boissons chaudes\n– Grignotines \n\nEt des prix de présence à gagner !\n\n\n Match féminin à 18h30\n Match masculin à 20h30\nNos équipes affrontent les Gaillards de Jonquière dans deux duels à ne pas manquer !\n\nVenez en grand nombre pour ce doublé totalement JEANNOIS! \nWebdiffusion : https://www.youtube.com/live/zSQP7rH3yYI
URL:https://quoifairealma.com/evenement/soccer-feminin-et-masculin-jonquiere-contre-alma/
LOCATION:Collège d’Alma\, 675\, boulevard Auger Ouest\, Alma\, G8B 2B7
CATEGORIES:Compétitions et rencontres sportives,Sports et plein air
ATTACH;FMTTYPE=image/jpeg:https://quoifairealma.com/app/uploads/2025/09/Talgate.jpg
ORGANIZER;CN="Coll%C3%A8ge d'Alma":MAILTO:melina.regimbal@collegealma.ca
END:VEVENT
BEGIN:VEVENT
DTSTART;TZID=America/New_York:20250913T140000
DTEND;TZID=America/New_York:20250913T160000
DTSTAMP:20260425T130751
CREATED:20250908T130247Z
LAST-MODIFIED:20250910T115854Z
UID:10001031-1757772000-1757779200@quoifairealma.com
SUMMARY:Hockey D2 : Thetford contre Alma
DESCRIPTION:C’est le début de saison régulière pour l’équipe de hockey D2 du Collège d’Alma. Pour l’occasion\, vos Jeannois affronteront les Filons du Cégep de Thetford. \nSoyez des nôtres!
URL:https://quoifairealma.com/evenement/hockey-d2-thetford-contre-alma-3/
LOCATION:Centre Mario-Tremblay\, 605\, boulevard Saint-Luc\, Alma\, G8B 2K8
CATEGORIES:Compétitions et rencontres sportives,Sports et plein air
ATTACH;FMTTYPE=image/jpeg:https://quoifairealma.com/app/uploads/2025/09/edouard-nadeau_photographe-4198.jpg
ORGANIZER;CN="Coll%C3%A8ge d'Alma":MAILTO:melina.regimbal@collegealma.ca
END:VEVENT
BEGIN:VEVENT
DTSTART;TZID=America/New_York:20250914T130000
DTEND;TZID=America/New_York:20250914T150000
DTSTAMP:20260425T130751
CREATED:20250908T130649Z
LAST-MODIFIED:20250910T120014Z
UID:10001032-1757854800-1757862000@quoifairealma.com
SUMMARY:Hockey D2 : Victoriaville contre les Jeannois du Collège d'Alma
DESCRIPTION:Ce dimanche\, les Jeannois affronteront les Vulkins du Cégep de Victoriaville. \nTarif :\nAdulte : 17 et + : 10 $\nAdo (12-16) et étudiants : 5 $\nEnfants (11 ans et moins) : gratuit \nBienvenue à toutes et à tous!
URL:https://quoifairealma.com/evenement/hockey-d2-victoriaville-contre-les-jeannois-du-college-dalma/
LOCATION:Centre Mario-Tremblay\, 605\, boulevard Saint-Luc\, Alma\, G8B 2K8
CATEGORIES:Compétitions et rencontres sportives,Sports et plein air
ATTACH;FMTTYPE=image/jpeg:https://quoifairealma.com/app/uploads/2025/09/edouard-nadeau_photographe-3032.jpg
ORGANIZER;CN="Coll%C3%A8ge d'Alma":MAILTO:melina.regimbal@collegealma.ca
END:VEVENT
BEGIN:VEVENT
DTSTART;TZID=America/New_York:20250918T200000
DTEND;TZID=America/New_York:20250918T220000
DTSTAMP:20260425T130751
CREATED:20250915T130608Z
LAST-MODIFIED:20250917T191410Z
UID:10001040-1758225600-1758232800@quoifairealma.com
SUMMARY:Soccer masculin D2 : Chicoutimi contre les Jeannois
DESCRIPTION:Les Jeannois feront face aux Cougars de Chicoutimi. Un match à ne pas manquer! \nWEBDIFFUSION : https://www.youtube.com/live/e-46H0oaSWo
URL:https://quoifairealma.com/evenement/soccer-masculin-d2-chicoutimi-contre-les-jeannois/
LOCATION:Collège d’Alma\, 675\, boulevard Auger Ouest\, Alma\, G8B 2B7
CATEGORIES:Compétitions et rencontres sportives,Sports et plein air
ATTACH;FMTTYPE=image/jpeg:https://quoifairealma.com/app/uploads/2025/09/edouard-nadeau_photographe-1029-1.jpg
ORGANIZER;CN="Coll%C3%A8ge d'Alma":MAILTO:melina.regimbal@collegealma.ca
END:VEVENT
BEGIN:VEVENT
DTSTART;VALUE=DATE:20250921
DTEND;VALUE=DATE:20250922
DTSTAMP:20260425T130751
CREATED:20250605T121225Z
LAST-MODIFIED:20250605T121225Z
UID:10001368-1758412800-1758499199@quoifairealma.com
SUMMARY:La Collégiale d'Alma
DESCRIPTION:𝗟𝗮 𝗖𝗼𝗹𝗹𝗲́𝗴𝗶𝗮𝗹𝗲 𝗲𝘀𝘁 𝗱𝗲 𝗿𝗲𝘁𝗼𝘂𝗿! \n\n\n\nLe dimanche 21 septembre 2025\, viens vivre une journée sportive\, festive et rassembleuse au Collège d’Alma pour la bonne cause! Tous les profits seront remis à nos équipes sportives des Jeannois. \n\n\nQue tu sois coureur du dimanche\, marcheur motivé\, famille active ou entreprise dynamique\, La Collégiale\, c’est pour TOI! Inscris-toi dès maintenant : https://lepointdevente.com/billets/cai250325001\n\n\n\n 5 km marche ou course\n 10 km course\n Parcours GRATUIT de 1 km ou 3 km pour les enfants et leurs parents\n Visibilité pour les groupes et entreprises participantes \n T-shirt officiel de la course pour les coureurs\n Animation\, surprises\, photographe sur place\, ambiance festive et bien plus!\n\n\n\nOn t’attend en solo\, en famille\, entre collègues ou entre amis pour célébrer l’esprit d’équipe\, la santé et notre belle communauté!\n\n\n\n Inscris toi dès maintenant et réserve ton 21 septembre!\n Pour le volet entreprise\, écrivez à melina.regimbal@collegealma.ca pour votre inscription.\n\n\n\nPartage la bonne nouvelle et identifie ton monde en commentaire sous cette publication pour vous motiver à relever un beau défi cet automne!
URL:https://quoifairealma.com/evenement/la-collegiale-dalma/
LOCATION:Collège d’Alma\, 675\, boulevard Auger Ouest\, Alma\, G8B 2B7
CATEGORIES:Activités sportives,Sports et plein air
ATTACH;FMTTYPE=image/jpeg:https://quoifairealma.com/app/uploads/2025/06/La-collegiale_.jpg
ORGANIZER;CN="Coll%C3%A8ge d'Alma":MAILTO:melina.regimbal@collegealma.ca
END:VEVENT
BEGIN:VEVENT
DTSTART;TZID=America/New_York:20250921T130000
DTEND;TZID=America/New_York:20250921T150000
DTSTAMP:20260425T130751
CREATED:20250915T130316Z
LAST-MODIFIED:20250917T191233Z
UID:10001038-1758459600-1758466800@quoifairealma.com
SUMMARY:Hockey D1 : Lionel-Groulx contre les Jeannois du Collège d'Alma
DESCRIPTION:Assistez en grand nombre au match opposant les Jeannois aux Nordiques du Collège Lionel-Groulx. \nWEBDIFFUSION : https://rseq.direct/ \nTarif :\nAdulte : 17 et + : 10 $\nAdo (12-16) et étudiants : 5 $\nEnfants (11 ans et moins) : gratuit
URL:https://quoifairealma.com/evenement/hockey-d1-lionel-groulx-contre-les-jeannois-du-college-dalma/
LOCATION:Centre Mario-Tremblay\, 605\, boulevard Saint-Luc\, Alma\, G8B 2K8
CATEGORIES:Compétitions et rencontres sportives,Sports et plein air
ATTACH;FMTTYPE=image/jpeg:https://quoifairealma.com/app/uploads/2025/09/edouard-nadeau_photographe-6300.jpg
ORGANIZER;CN="Coll%C3%A8ge d'Alma":MAILTO:melina.regimbal@collegealma.ca
END:VEVENT
BEGIN:VEVENT
DTSTART;TZID=America/New_York:20250923T180000
DTEND;TZID=America/New_York:20250923T183000
DTSTAMP:20260425T130751
CREATED:20250916T143449Z
LAST-MODIFIED:20250917T185956Z
UID:10001050-1758650400-1758652200@quoifairealma.com
SUMMARY:Portes-Ouvertes Cardio-Rame
DESCRIPTION:Le but principal est de promouvoir nos séances gratuites de 30 minutes 2 offertes le 23 septembre. Faire connaître une activité sportive peu connue qui se passe au CMT l’automne\, l’hiver et le printemps à raison de 1 ou 2 séances de 60 minutes par semaine. Le tout échelonné sur 10 semaines vous vivrez des entraînements dynamiques au rythme de la musique. Sous la surveillance d’experts accrédités\, une belle méthode pour une mise en forme ou garder les acquis avec un sport sans contact et surtout sans risque de blessure. Du plaisir garanti! \n🌟 Portes-Ouvertes Cardio-Rame 🌟 \nDécouvrez une activité sportive dynamique\, sécuritaire et peu connue ! Venez profiter de nos séances gratuites de 30 minutes. \nLe Cardio-Rame\, c’est : \n\nDes entraînements rythmiques au son de la musique 🎶\nUne activité sans contact et à faible risque de blessure\nEncadrée par des experts accrédités\nIdéal pour se mettre en forme ou maintenir ses acquis\n\nCette activité se déroule à l’automne\, l’hiver et le printemps\, avec 1 ou 2 séances de 60 minutes par semaine sur 10 semaines. \n💪 Du plaisir garanti et une façon originale de bouger !
URL:https://quoifairealma.com/evenement/portes-ouvertes-cardio-rame/
LOCATION:Centre multisport\, 605\, boulevard Saint-Luc\, Alma\, Québec\, G8B 2K8\, Canada
CATEGORIES:Activités sportives,Sports et plein air
ATTACH;FMTTYPE=image/jpeg:https://quoifairealma.com/app/uploads/2025/09/1-TEMPLATE-2.jpg
ORGANIZER;CN="Club d'Aviron d'Alma":MAILTO:clubavironalma@gmail.com
END:VEVENT
BEGIN:VEVENT
DTSTART;TZID=America/New_York:20250923T183000
DTEND;TZID=America/New_York:20250923T190000
DTSTAMP:20260425T130751
CREATED:20250917T190055Z
LAST-MODIFIED:20250917T190055Z
UID:10001614-1758652200-1758654000@quoifairealma.com
SUMMARY:Portes-Ouvertes Cardio-Rame
DESCRIPTION:Le but principal est de promouvoir nos séances gratuites de 30 minutes 2 offertes le 23 septembre. Faire connaître une activité sportive peu connue qui se passe au CMT l’automne\, l’hiver et le printemps à raison de 1 ou 2 séances de 60 minutes par semaine. Le tout échelonné sur 10 semaines vous vivrez des entraînements dynamiques au rythme de la musique. Sous la surveillance d’experts accrédités\, une belle méthode pour une mise en forme ou garder les acquis avec un sport sans contact et surtout sans risque de blessure. Du plaisir garanti! \n🌟 Portes-Ouvertes Cardio-Rame 🌟 \nDécouvrez une activité sportive dynamique\, sécuritaire et peu connue ! Venez profiter de nos séances gratuites de 30 minutes. \nLe Cardio-Rame\, c’est : \n\nDes entraînements rythmiques au son de la musique 🎶\nUne activité sans contact et à faible risque de blessure\nEncadrée par des experts accrédités\nIdéal pour se mettre en forme ou maintenir ses acquis\n\nCette activité se déroule à l’automne\, l’hiver et le printemps\, avec 1 ou 2 séances de 60 minutes par semaine sur 10 semaines. \n💪 Du plaisir garanti et une façon originale de bouger !
URL:https://quoifairealma.com/evenement/portes-ouvertes-cardio-rame-2/
LOCATION:Centre multisport\, 605\, boulevard Saint-Luc\, Alma\, Québec\, G8B 2K8\, Canada
CATEGORIES:Activités sportives,Sports et plein air
ATTACH;FMTTYPE=image/jpeg:https://quoifairealma.com/app/uploads/2025/09/1-TEMPLATE-2.jpg
ORGANIZER;CN="Club d'Aviron d'Alma":MAILTO:clubavironalma@gmail.com
END:VEVENT
BEGIN:VEVENT
DTSTART;TZID=America/New_York:20250927T140000
DTEND;TZID=America/New_York:20250927T160000
DTSTAMP:20260425T130751
CREATED:20250922T141740Z
LAST-MODIFIED:20250924T191015Z
UID:10001057-1758981600-1758988800@quoifairealma.com
SUMMARY:Hockey D2 : Rimouski visite les Jeannois du Collège d'Alma
DESCRIPTION:Ce samedi\, l’équipe D2 des Jeannois du Collège d’Alma se mesureront aux Pionniers du cégep de Rimouski pour le premier duel de ce programme double. \nSoyez aux premières loges de ce match enlevant! \nWEBDIFFUSION : https://www.youtube.com/live/xD2F5SPLdEc
URL:https://quoifairealma.com/evenement/hockey-d2-rimouski-visite-les-jeannois-du-college-dalma/
LOCATION:Centre Mario-Tremblay\, 605\, boulevard Saint-Luc\, Alma\, G8B 2K8
CATEGORIES:Compétitions et rencontres sportives,Sports et plein air
ATTACH;FMTTYPE=image/jpeg:https://quoifairealma.com/app/uploads/2025/09/edouard-nadeau_photographe-3381.jpg
ORGANIZER;CN="Coll%C3%A8ge d'Alma":MAILTO:melina.regimbal@collegealma.ca
END:VEVENT
BEGIN:VEVENT
DTSTART;TZID=America/New_York:20250928T130000
DTEND;TZID=America/New_York:20250928T150000
DTSTAMP:20260425T130751
CREATED:20250922T142215Z
LAST-MODIFIED:20250924T191052Z
UID:10001059-1759064400-1759071600@quoifairealma.com
SUMMARY:Hockey D2 : Rimouski visite les Jeannois du Collège d'Alma
DESCRIPTION:Assistez en grand nombre à ce 2e match du programme double match opposant vos Jeannois aux Pionniers du cégep de Rimouski. \nDe l’action assurément! \nWEBDIFFUSION : https://www.youtube.com/live/xD2F5SPLdEc
URL:https://quoifairealma.com/evenement/hockey-d2-rimouski-visite-les-jeannois-du-college-dalma-2/
LOCATION:Centre Mario-Tremblay\, 605\, boulevard Saint-Luc\, Alma\, G8B 2K8
CATEGORIES:Compétitions et rencontres sportives,Sports et plein air
ATTACH;FMTTYPE=image/jpeg:https://quoifairealma.com/app/uploads/2025/09/edouard-nadeau_photographe-3181.jpg
ORGANIZER;CN="Coll%C3%A8ge d'Alma":MAILTO:melina.regimbal@collegealma.ca
END:VEVENT
BEGIN:VEVENT
DTSTART;TZID=America/New_York:20250928T150000
DTEND;TZID=America/New_York:20250928T170000
DTSTAMP:20260425T130751
CREATED:20250922T142608Z
LAST-MODIFIED:20250924T191159Z
UID:10001061-1759071600-1759078800@quoifairealma.com
SUMMARY:Soccer féminin D2 : Beauce-Appalaches contre Alma
DESCRIPTION:Venez en grand nombre encourager l’équipe de soccer féminine du Collège d’Alma! \nWEBDIFFUSION : https://www.youtube.com/live/WZWS6pym0I8
URL:https://quoifairealma.com/evenement/soccer-feminin-d2-beauce-appalaches-contre-alma/
LOCATION:Collège d’Alma\, 675\, boulevard Auger Ouest\, Alma\, G8B 2B7
CATEGORIES:Compétitions et rencontres sportives,Sports et plein air
ATTACH;FMTTYPE=image/jpeg:https://quoifairealma.com/app/uploads/2025/09/edouard-nadeau_photographe-0669.jpg
ORGANIZER;CN="Coll%C3%A8ge d'Alma":MAILTO:melina.regimbal@collegealma.ca
END:VEVENT
END:VCALENDAR